BEGIN:VCALENDAR
PRODID:-//eluceo/ical//2.0/EN
VERSION:2.0
CALSCALE:GREGORIAN
BEGIN:VEVENT
UID:e21b29827bf09fc4d84a4cf65c35fd1b
DTSTAMP:20260421T190615Z
SUMMARY:Jetzt geht die Party richtig los - Kindergeburtstag
DESCRIPTION:Geburtstagsparty im Kinderland: Feiern in fantasievollen Themen
 zimmern\, den ganzen Tag spielen und toben – von Ballkanonen bis Trampol
 inen. Zwei Erwachsene sind gratis dabei. Ein unvergessliches Erlebnis voll
 er Spaß\, Abenteuer und Fantasie.
URL:https://www.meinplaner.com
DTSTART;TZID=Europe/Amsterdam:20260422T130000
DTEND;TZID=Europe/Amsterdam:20260422T180000
LOCATION:Ringstr. 17b\, 09247 Chemnitz
BEGIN:VALARM
ACTION:DISPLAY
DESCRIPTION:Erinnerung: Jetzt geht die Party richtig los - Kindergeburtstag
  beginnt in 1 Stunde
TRIGGER;RELATED=END:-PT1H
END:VALARM
END:VEVENT
END:VCALENDAR
