BEGIN:VCALENDAR
PRODID:-//eluceo/ical//2.0/EN
VERSION:2.0
CALSCALE:GREGORIAN
BEGIN:VEVENT
UID:6201ae495f27792910f6d948ebbcf320
DTSTAMP:20260423T161058Z
SUMMARY:Einblicke ins Festival Theater der Welt 
DESCRIPTION:„Theater der Welt“ gastiert in Chemnitz & bringt ein intern
 ational kuratiertes Programm auf die Bühnen der Stadt. Eine monatliche Ta
 lk-Reihe bietet Einblicke in Entstehung\, künstlerische Entdeckungen & di
 e umfangreichen Vorbereitungen auf das große Festival.
URL:https://www.meinplaner.com
DTSTART;TZID=Europe/Amsterdam:20260428T180000
DTEND;TZID=Europe/Amsterdam:20260428T200000
LOCATION:Fabrikstraße  11\, 09111 Chemnitz
BEGIN:VALARM
ACTION:DISPLAY
DESCRIPTION:Erinnerung: Einblicke ins Festival Theater der Welt  beginnt in
  1 Stunde
TRIGGER;RELATED=END:-PT1H
END:VALARM
END:VEVENT
END:VCALENDAR
