BEGIN:VCALENDAR
PRODID:-//eluceo/ical//2.0/EN
VERSION:2.0
CALSCALE:GREGORIAN
BEGIN:VEVENT
UID:8a24a72cdb47b5b3a7d7ba64350e71d8
DTSTAMP:20260419T230042Z
SUMMARY:Für immer ein Teil von dir - Reminders of Him
DESCRIPTION:Nur die Erinnerung bleibt ... FÜR IMMER EIN TEIL VON DIR erzä
 hlt von Kenna\, die nach dem Verlust ihrer großen Liebe in ihre Heimatsta
 dt zurückkehrt. Auf der Suche nach einem Neuanfang entdeckt sie die Kraft
  von Vergebung und die heilende Macht der Liebe.
URL:https://www.meinplaner.com
DTSTART;TZID=Europe/Amsterdam:20260420T143000
DTEND;TZID=Europe/Amsterdam:20260420T163000
LOCATION:Poetenweg 6-8\, 08056 Zwickau
BEGIN:VALARM
ACTION:DISPLAY
DESCRIPTION:Erinnerung: Für immer ein Teil von dir - Reminders of Him begi
 nnt in 1 Stunde
TRIGGER;RELATED=END:-PT1H
END:VALARM
END:VEVENT
BEGIN:VEVENT
UID:e15ff4034d4ccfda0188eedcd6d0d215
DTSTAMP:20260419T230042Z
SUMMARY:Für immer ein Teil von dir - Reminders of Him
DESCRIPTION:Nur die Erinnerung bleibt ... FÜR IMMER EIN TEIL VON DIR erzä
 hlt von Kenna\, die nach dem Verlust ihrer großen Liebe in ihre Heimatsta
 dt zurückkehrt. Auf der Suche nach einem Neuanfang entdeckt sie die Kraft
  von Vergebung und die heilende Macht der Liebe.
URL:https://www.meinplaner.com
DTSTART;TZID=Europe/Amsterdam:20260420T171000
DTEND;TZID=Europe/Amsterdam:20260420T191000
LOCATION:Poetenweg 6-8\, 08056 Zwickau
BEGIN:VALARM
ACTION:DISPLAY
DESCRIPTION:Erinnerung: Für immer ein Teil von dir - Reminders of Him begi
 nnt in 1 Stunde
TRIGGER;RELATED=END:-PT1H
END:VALARM
END:VEVENT
END:VCALENDAR
