BEGIN:VCALENDAR
PRODID:-//eluceo/ical//2.0/EN
VERSION:2.0
CALSCALE:GREGORIAN
BEGIN:VEVENT
UID:00a550193bc0482e9c3c8ac76993c2c6
DTSTAMP:20260420T022204Z
SUMMARY:Unter Tage Lesung mit Anett Steiner
DESCRIPTION:Die zweite UNTER TAGE LESUNG entführt in die Welt der ERZGEBIR
 GS-Krimis von Anett Steiner. Nach einer Sonderführung durch die Stolln de
 s Sauberges liest die Autorin im beheizten Mannschaftsbunker und beantwort
 et Fragen sowie Autogrammwünsche.
URL:https://www.meinplaner.com
DTSTART;TZID=Europe/Amsterdam:20260522T190000
DTEND;TZID=Europe/Amsterdam:20260522T213000
LOCATION:Am Sauberg 1\, 09427 Ehrenfriedersdorf
BEGIN:VALARM
ACTION:DISPLAY
DESCRIPTION:Erinnerung: Unter Tage Lesung mit Anett Steiner beginnt in 1 St
 unde
TRIGGER;RELATED=END:-PT1H
END:VALARM
END:VEVENT
END:VCALENDAR
