BEGIN:VCALENDAR
PRODID:-//eluceo/ical//2.0/EN
VERSION:2.0
CALSCALE:GREGORIAN
BEGIN:VEVENT
UID:aeffcd27ed191a0aa23cc7515a2c966d
DTSTAMP:20260424T072417Z
SUMMARY:Zwickauer "Stammtisch Geschichte(n)"
DESCRIPTION:Der Stadtführer entführt die Gäste in vergangene Zeiten\, vo
 rbei an ehemals urigen Kneipen und historischen Baudenkmalen der Stadt. Pa
 ssend zu der Führung gibt es für die Gäste zwischendurch einen kleinen 
 Pausentrunk.
URL:https://www.meinplaner.com
DTSTART;TZID=Europe/Amsterdam:20260505T173000
DTEND;TZID=Europe/Amsterdam:20260505T193000
LOCATION:Hauptstraße 6\, 08056 Zwickau
BEGIN:VALARM
ACTION:DISPLAY
DESCRIPTION:Erinnerung: Zwickauer "Stammtisch Geschichte(n)" beginnt in 1 S
 tunde
TRIGGER;RELATED=END:-PT1H
END:VALARM
END:VEVENT
END:VCALENDAR
