BEGIN:VCALENDAR
PRODID:-//eluceo/ical//2.0/EN
VERSION:2.0
CALSCALE:GREGORIAN
BEGIN:VEVENT
UID:072a0d65ff1c8f709ad02b5018fcd519
DTSTAMP:20260422T190351Z
SUMMARY:Willkommen in Italien im feinen Ambiente
DESCRIPTION:Unten Kaffee und Torte\, ein paar Stufen nach oben beste italie
 nische Küche. Eine feine Symbiose ist im Kaffeehaus Michaelis gelungen. D
 as „di sopra“ hat mit seinen Chefkoch Torsten Wolf einen Gaumenkomposi
 teur erster Klasse gewonnen. Buon appetito.
URL:https://www.meinplaner.com
DTSTART;TZID=Europe/Amsterdam:20260422T113000
DTEND;TZID=Europe/Amsterdam:20260422T143000
LOCATION:Düsseldorfer Platz 1\, 09111 Chemnitz
BEGIN:VALARM
ACTION:DISPLAY
DESCRIPTION:Erinnerung: Willkommen in Italien im feinen Ambiente beginnt in
  1 Stunde
TRIGGER;RELATED=END:-PT1H
END:VALARM
END:VEVENT
BEGIN:VEVENT
UID:5b8244ae211dc3337860156210d43b58
DTSTAMP:20260422T190351Z
SUMMARY:Willkommen in Italien im feinen Ambiente
DESCRIPTION:Unten Kaffee und Torte\, ein paar Stufen nach oben beste italie
 nische Küche. Eine feine Symbiose ist im Kaffeehaus Michaelis gelungen. D
 as „di sopra“ hat mit seinen Chefkoch Torsten Wolf einen Gaumenkomposi
 teur erster Klasse gewonnen. Buon appetito.
URL:https://www.meinplaner.com
DTSTART;TZID=Europe/Amsterdam:20260422T173000
DTEND;TZID=Europe/Amsterdam:20260422T223000
LOCATION:Düsseldorfer Platz 1\, 09111 Chemnitz
BEGIN:VALARM
ACTION:DISPLAY
DESCRIPTION:Erinnerung: Willkommen in Italien im feinen Ambiente beginnt in
  1 Stunde
TRIGGER;RELATED=END:-PT1H
END:VALARM
END:VEVENT
END:VCALENDAR
