BEGIN:VCALENDAR
PRODID:-//eluceo/ical//2.0/EN
VERSION:2.0
CALSCALE:GREGORIAN
BEGIN:VEVENT
UID:db67641950ee32d0666acfbf7a2fc422
DTSTAMP:20260424T002818Z
SUMMARY:Tierisch abgefahren - Rettet die Pets!
DESCRIPTION:In einem rasenden Zug voller putziger Haustiere muss Waschbär 
 Falcon\, der einen Job angenommen hat\, um seinen Freunden zu helfen\, das
  Chaos stoppen und die Passagiere vereinen\, während ein rachsüchtiger D
 achs mit einem verrückten Plan alles bedroht.
URL:https://www.meinplaner.com
DTSTART;TZID=Europe/Amsterdam:20260424T150500
DTEND;TZID=Europe/Amsterdam:20260424T170500
LOCATION:Poetenweg 6-8\, 08056 Zwickau
BEGIN:VALARM
ACTION:DISPLAY
DESCRIPTION:Erinnerung: Tierisch abgefahren - Rettet die Pets! beginnt in 1
  Stunde
TRIGGER;RELATED=END:-PT1H
END:VALARM
END:VEVENT
END:VCALENDAR
