BEGIN:VCALENDAR
PRODID:-//eluceo/ical//2.0/EN
VERSION:2.0
CALSCALE:GREGORIAN
BEGIN:VEVENT
UID:7cf9a3911b7691ce633ce811472fe690
DTSTAMP:20260425T224501Z
SUMMARY:Amerika Tierpark
DESCRIPTION:Vor 65 Jahren wurde der Tierpark Limbach-Oberfrohna gegründet.
  Seit dem gilt er als beliebtes Ausflugsziel. In der rund 2 Hektar großen
  Anlage gibt es 300 Tiere in 68 Arten zu bestaunen. Seit einigen Jahren er
  zum Themenpark „Amerika" umgebaut.
URL:https://www.meinplaner.com
DTSTART;TZID=Europe/Amsterdam:20260426T093000
DTEND;TZID=Europe/Amsterdam:20260426T183000
LOCATION:Tierparkstr. 1\, 09212 Limbach-Oberfrohna
BEGIN:VALARM
ACTION:DISPLAY
DESCRIPTION:Erinnerung: Amerika Tierpark beginnt in 1 Stunde
TRIGGER;RELATED=END:-PT1H
END:VALARM
END:VEVENT
END:VCALENDAR
