BEGIN:VCALENDAR
PRODID:-//eluceo/ical//2.0/EN
VERSION:2.0
CALSCALE:GREGORIAN
BEGIN:VEVENT
UID:5263a47a0c93ef4a3d08c19220151a1d
DTSTAMP:20260420T200007Z
SUMMARY:Zwickauer Automobilgeschichte
DESCRIPTION:Die Dauerausstellung zur Zwickauer Automobilbaugeschichte biete
 t einen faszinierenden Einblick in die Entwicklung von Technik und Design\
 , mit über 160 Exponaten\, die die Geschichte von Horch\, Audi\, Auto Uni
 on\, Trabant und Volkswagen lebendig werden lassen.
URL:https://www.meinplaner.com
DTSTART;TZID=Europe/Amsterdam:20260421T093000
DTEND;TZID=Europe/Amsterdam:20260421T170000
LOCATION:Audistr. 7\, 08058 Zwickau
BEGIN:VALARM
ACTION:DISPLAY
DESCRIPTION:Erinnerung: Zwickauer Automobilgeschichte beginnt in 1 Stunde
TRIGGER;RELATED=END:-PT1H
END:VALARM
END:VEVENT
END:VCALENDAR
