BEGIN:VCALENDAR
PRODID:-//eluceo/ical//2.0/EN
VERSION:2.0
CALSCALE:GREGORIAN
BEGIN:VEVENT
UID:de13c5ccbfd47ce29c6e9ee00bc2f432
DTSTAMP:20260422T003631Z
SUMMARY:1. Mai: Grill an & genießen!
DESCRIPTION:Am 1. Mai ist geöffnet und für das leibliche Wohl bestens ges
 orgt. Frisches vom Grill\, kalte und warme Getränke sowie Kaffee und Kuch
 en laden zu einer genussvollen Pause ein. Perfekt für eine entspannte Aus
 zeit.
URL:https://www.meinplaner.com
DTSTART;TZID=Europe/Amsterdam:20260501T110000
DTEND;TZID=Europe/Amsterdam:20260501T190000
LOCATION:Lengenfelder Str. 53a\, 08115 Lichtentanne
BEGIN:VALARM
ACTION:DISPLAY
DESCRIPTION:Erinnerung: 1. Mai: Grill an & genießen! beginnt in 1 Stunde
TRIGGER;RELATED=END:-PT1H
END:VALARM
END:VEVENT
END:VCALENDAR
