BEGIN:VCALENDAR
PRODID:-//eluceo/ical//2.0/EN
VERSION:2.0
CALSCALE:GREGORIAN
BEGIN:VEVENT
UID:7fd66a30acab60f939d945631e4b75d6
DTSTAMP:20260419T145123Z
SUMMARY:Speisen wie die alten Rittersleut'
DESCRIPTION:Gäste können hier speisen wie die alten Rittersleut‘ & säc
 hsische Kochkunst im rustikalen Ambiente erleben. An schönen Tagen ist de
 r Biergarten geöffnet. Für Großveranstaltungen eignet sich der Rittergu
 ts-Saal - ob Faschingsfeier\, Hochzeit oder Ritteressen.
URL:https://www.meinplaner.com
DTSTART;TZID=Europe/Amsterdam:20260421T110000
DTEND;TZID=Europe/Amsterdam:20260421T140000
LOCATION:Rittergutsweg  8\, 08485 Lengenfeld
BEGIN:VALARM
ACTION:DISPLAY
DESCRIPTION:Erinnerung: Speisen wie die alten Rittersleut' beginnt in 1 Stu
 nde
TRIGGER;RELATED=END:-PT1H
END:VALARM
END:VEVENT
BEGIN:VEVENT
UID:9be623d56e8f1857d8a7d9e189d34f34
DTSTAMP:20260419T145123Z
SUMMARY:Speisen wie die alten Rittersleut'
DESCRIPTION:Gäste können hier speisen wie die alten Rittersleut‘ & säc
 hsische Kochkunst im rustikalen Ambiente erleben. An schönen Tagen ist de
 r Biergarten geöffnet. Für Großveranstaltungen eignet sich der Rittergu
 ts-Saal - ob Faschingsfeier\, Hochzeit oder Ritteressen.
URL:https://www.meinplaner.com
DTSTART;TZID=Europe/Amsterdam:20260421T170000
DTEND;TZID=Europe/Amsterdam:20260421T210000
LOCATION:Rittergutsweg  8\, 08485 Lengenfeld
BEGIN:VALARM
ACTION:DISPLAY
DESCRIPTION:Erinnerung: Speisen wie die alten Rittersleut' beginnt in 1 Stu
 nde
TRIGGER;RELATED=END:-PT1H
END:VALARM
END:VEVENT
END:VCALENDAR
