BEGIN:VCALENDAR
PRODID:-//eluceo/ical//2.0/EN
VERSION:2.0
CALSCALE:GREGORIAN
BEGIN:VEVENT
UID:92f0088efb03b53003b9abc40db5167b
DTSTAMP:20260419T135836Z
SUMMARY:Der Astronaut - Project Hail Mary
DESCRIPTION:Ryland Grace erwacht ohne Erinnerung auf einem Raumschiff\, Lic
 htjahre von der Erde entfernt. Nach und nach erkennt er seine Mission: Ein
 e rätselhafte Substanz bedroht die Sonne und alles Leben. Mit Wissen\, Mu
 t und unerwarteter Hilfe kämpft er um das Überleben.
URL:https://www.meinplaner.com
DTSTART;TZID=Europe/Amsterdam:20260419T170000
DTEND;TZID=Europe/Amsterdam:20260419T190000
LOCATION:Poetenweg 6-8\, 08056 Zwickau
BEGIN:VALARM
ACTION:DISPLAY
DESCRIPTION:Erinnerung: Der Astronaut - Project Hail Mary beginnt in 1 Stun
 de
TRIGGER;RELATED=END:-PT1H
END:VALARM
END:VEVENT
BEGIN:VEVENT
UID:f54a0ee7e08b6eb30ccedc035bddedb8
DTSTAMP:20260419T135836Z
SUMMARY:Der Astronaut - Project Hail Mary
DESCRIPTION:Ryland Grace erwacht ohne Erinnerung auf einem Raumschiff\, Lic
 htjahre von der Erde entfernt. Nach und nach erkennt er seine Mission: Ein
 e rätselhafte Substanz bedroht die Sonne und alles Leben. Mit Wissen\, Mu
 t und unerwarteter Hilfe kämpft er um das Überleben.
URL:https://www.meinplaner.com
DTSTART;TZID=Europe/Amsterdam:20260419T193000
DTEND;TZID=Europe/Amsterdam:20260419T213000
LOCATION:Poetenweg 6-8\, 08056 Zwickau
BEGIN:VALARM
ACTION:DISPLAY
DESCRIPTION:Erinnerung: Der Astronaut - Project Hail Mary beginnt in 1 Stun
 de
TRIGGER;RELATED=END:-PT1H
END:VALARM
END:VEVENT
END:VCALENDAR
