BEGIN:VCALENDAR
PRODID:-//eluceo/ical//2.0/EN
VERSION:2.0
CALSCALE:GREGORIAN
BEGIN:VEVENT
UID:0f40941e29e93abc98a753a4655ca907
DTSTAMP:20260425T023915Z
SUMMARY:Angenehmer Mix aus Restaurant und Wohnzimmer
DESCRIPTION:Nahe des Chemnitzflusses in einem der bedeutendsten Chemnitzer 
 Industriedenkmäler liegt das gemütliche Ankh-Wohnzimmer.  Vor dem Genuss
  von mediterranen Gerichten\, Currywurst oder selbstgemachten Falafelbäll
 chen lohnt sich ein Blick in die Bücherregale.
URL:https://www.meinplaner.com
DTSTART;TZID=Europe/Amsterdam:20260425T170000
DTEND;TZID=Europe/Amsterdam:20260426T000000
LOCATION:Schönherrstr. 8\, 09113 Chemnitz
BEGIN:VALARM
ACTION:DISPLAY
DESCRIPTION:Erinnerung: Angenehmer Mix aus Restaurant und Wohnzimmer beginn
 t in 1 Stunde
TRIGGER;RELATED=END:-PT1H
END:VALARM
END:VEVENT
END:VCALENDAR
