BEGIN:VCALENDAR
PRODID:-//eluceo/ical//2.0/EN
VERSION:2.0
CALSCALE:GREGORIAN
BEGIN:VEVENT
UID:2246de67a988be5195639074a43962ed
DTSTAMP:20260421T083805Z
SUMMARY:Sonderführung: "Glaube\, Macht\, Schicksal - Die Klostergeschichte
 "
DESCRIPTION:Das Zisterzienserkloster Altzella war ein bedeutendes Machtzent
 rum Mittelsachsens\, Grablege der Wettiner und beherbergt die größte Bac
 ksteinkirche Sachsens. Die Führung gibt spannende Einblicke in das Leben 
 der Mönche und die Geschichte des Klosters.
URL:https://www.meinplaner.com
DTSTART;TZID=Europe/Amsterdam:20260503T150000
DTEND;TZID=Europe/Amsterdam:20260503T170000
LOCATION:Zellaer Str. 10\, 01683 Nossen
BEGIN:VALARM
ACTION:DISPLAY
DESCRIPTION:Erinnerung: Sonderführung: "Glaube\, Macht\, Schicksal - Die K
 lostergeschichte" beginnt in 1 Stunde
TRIGGER;RELATED=END:-PT1H
END:VALARM
END:VEVENT
END:VCALENDAR
