BEGIN:VCALENDAR
PRODID:-//eluceo/ical//2.0/EN
VERSION:2.0
CALSCALE:GREGORIAN
BEGIN:VEVENT
UID:f8df6b23640e25becef595e7fff1be63
DTSTAMP:20260420T234759Z
SUMMARY:Stilvolle und familiäre Gastlichkeit & eine besondere Tradition
DESCRIPTION:Ein besonderes Flair und stilvolle\, familiäre Gastlichkeit 
 – so werden Gäste hier empfangen. Verwöhnt werden sie mit guter und ab
 wechslungsreicher Küche. Neben traditionellen Rossfleischgerichten bietet
  sie auch Gerichte vom Rind\, Schwein\, Huhn und Fisch an.
URL:https://www.meinplaner.com
DTSTART;TZID=Europe/Amsterdam:20260421T110000
DTEND;TZID=Europe/Amsterdam:20260421T150000
LOCATION:Augustusburger Straße  265\, 09127 Chemnitz
BEGIN:VALARM
ACTION:DISPLAY
DESCRIPTION:Erinnerung: Stilvolle und familiäre Gastlichkeit & eine besond
 ere Tradition beginnt in 1 Stunde
TRIGGER;RELATED=END:-PT1H
END:VALARM
END:VEVENT
BEGIN:VEVENT
UID:2ba85ef733c3518a0ef093ade5a8c75d
DTSTAMP:20260420T234759Z
SUMMARY:Stilvolle und familiäre Gastlichkeit & eine besondere Tradition
DESCRIPTION:Ein besonderes Flair und stilvolle\, familiäre Gastlichkeit 
 – so werden Gäste hier empfangen. Verwöhnt werden sie mit guter und ab
 wechslungsreicher Küche. Neben traditionellen Rossfleischgerichten bietet
  sie auch Gerichte vom Rind\, Schwein\, Huhn und Fisch an.
URL:https://www.meinplaner.com
DTSTART;TZID=Europe/Amsterdam:20260421T170000
DTEND;TZID=Europe/Amsterdam:20260421T220000
LOCATION:Augustusburger Straße  265\, 09127 Chemnitz
BEGIN:VALARM
ACTION:DISPLAY
DESCRIPTION:Erinnerung: Stilvolle und familiäre Gastlichkeit & eine besond
 ere Tradition beginnt in 1 Stunde
TRIGGER;RELATED=END:-PT1H
END:VALARM
END:VEVENT
END:VCALENDAR
