BEGIN:VCALENDAR
PRODID:-//eluceo/ical//2.0/EN
VERSION:2.0
CALSCALE:GREGORIAN
BEGIN:VEVENT
UID:e00e0bec4766d6ebd9bedec148d9d886
DTSTAMP:20260422T100824Z
SUMMARY:Schenkung Hermann Gerlinger
DESCRIPTION:Die Kunstsammlungen Chemnitz erhalten von Hermann Gerlinger ein
 e bedeutende Brücke-Schenkung. 42 Werke von Schmidt-Rottluff\, Heckel und
  Kirchner zeigen die Vielfalt des Expressionismus und geben Einblick in di
 e Geschichte einer der wichtigsten Privatsammlungen
URL:https://www.meinplaner.com
DTSTART;TZID=Europe/Amsterdam:20260422T110000
DTEND;TZID=Europe/Amsterdam:20260422T180000
LOCATION:Theaterplatz 1\, 09111 Chemnitz
BEGIN:VALARM
ACTION:DISPLAY
DESCRIPTION:Erinnerung: Schenkung Hermann Gerlinger beginnt in 1 Stunde
TRIGGER;RELATED=END:-PT1H
END:VALARM
END:VEVENT
END:VCALENDAR
