BEGIN:VCALENDAR
PRODID:-//eluceo/ical//2.0/EN
VERSION:2.0
CALSCALE:GREGORIAN
BEGIN:VEVENT
UID:cf2564f9f17ea62bf3311dba56da8428
DTSTAMP:20260424T082419Z
SUMMARY:Öffentliche Führung durch die Ausstellung on stage III mit Dieter
  Wuschanski und  Kathi Halama
DESCRIPTION:Die Führung bietet einen einzigartigen Einblick in die kreativ
 e Zusammenarbeit von Fotograf Dieter Wuschanski und Designerin Kathi Halam
 a\, die persönliche Hintergründe und spannende Aspekte der kuratorischen
  Entwicklung beleuchten.
URL:https://www.meinplaner.com
DTSTART;TZID=Europe/Amsterdam:20260426T140000
DTEND;TZID=Europe/Amsterdam:20260426T153000
LOCATION:Wasserschloßweg 6\, 09123 Chemnitz
BEGIN:VALARM
ACTION:DISPLAY
DESCRIPTION:Erinnerung: Öffentliche Führung durch die Ausstellung on stag
 e III mit Dieter Wuschanski und  Kathi Halama beginnt in 1 Stunde
TRIGGER;RELATED=END:-PT1H
END:VALARM
END:VEVENT
END:VCALENDAR
