BEGIN:VCALENDAR
PRODID:-//eluceo/ical//2.0/EN
VERSION:2.0
CALSCALE:GREGORIAN
BEGIN:VEVENT
UID:6db67a7d098b29d140b1cd6291d40313
DTSTAMP:20260421T203351Z
SUMMARY:Horst Schlämmer sucht das Glück
DESCRIPTION:Horst Schlämmer\, stellv. Chefredakteur des "Grevenbroicher Ta
 gblatt"\, begibt sich auf eine abenteuerliche Reise durch Deutschland\, um
  das Lächeln der Menschen zurückzubringen\, während er Passanten\, Prom
 is und Psychologen nach dem Geheimnis des Glücks befragt.
URL:https://www.meinplaner.com
DTSTART;TZID=Europe/Amsterdam:20260422T174500
DTEND;TZID=Europe/Amsterdam:20260422T194500
LOCATION:Buchholzer Str. 10\, 09456 Annaberg-Buchholz
BEGIN:VALARM
ACTION:DISPLAY
DESCRIPTION:Erinnerung: Horst Schlämmer sucht das Glück beginnt in 1 Stun
 de
TRIGGER;RELATED=END:-PT1H
END:VALARM
END:VEVENT
BEGIN:VEVENT
UID:3675d1a87f9e73ede92ce5930d5ef654
DTSTAMP:20260421T203351Z
SUMMARY:Horst Schlämmer sucht das Glück
DESCRIPTION:Horst Schlämmer\, stellv. Chefredakteur des "Grevenbroicher Ta
 gblatt"\, begibt sich auf eine abenteuerliche Reise durch Deutschland\, um
  das Lächeln der Menschen zurückzubringen\, während er Passanten\, Prom
 is und Psychologen nach dem Geheimnis des Glücks befragt.
URL:https://www.meinplaner.com
DTSTART;TZID=Europe/Amsterdam:20260422T200000
DTEND;TZID=Europe/Amsterdam:20260422T220000
LOCATION:Buchholzer Str. 10\, 09456 Annaberg-Buchholz
BEGIN:VALARM
ACTION:DISPLAY
DESCRIPTION:Erinnerung: Horst Schlämmer sucht das Glück beginnt in 1 Stun
 de
TRIGGER;RELATED=END:-PT1H
END:VALARM
END:VEVENT
END:VCALENDAR
