BEGIN:VCALENDAR
PRODID:-//eluceo/ical//2.0/EN
VERSION:2.0
CALSCALE:GREGORIAN
BEGIN:VEVENT
UID:e1c16c9c4c98029ee17d30193a345a6b
DTSTAMP:20260425T221053Z
SUMMARY:1. Nussknackermuseum Europas
DESCRIPTION:Die grimmigen Nussknacker stellten fast immer Könige\, Gendarm
 en\, Förster\, Soldaten und Ritter dar. Die Sammlung der Familien Löschn
 er zeigen Nussknacker aus aller Welt\, u.a. den größten mit 10\,10 Meter
  und den kleinsten Nussknacker der Welt mit 4\,9 mm.
URL:https://www.meinplaner.com
DTSTART;TZID=Europe/Amsterdam:20260426T100000
DTEND;TZID=Europe/Amsterdam:20260426T160000
LOCATION:Bahnhofstr. 20 -24\, 09544 Neuhausen/Erzgeb.
BEGIN:VALARM
ACTION:DISPLAY
DESCRIPTION:Erinnerung: 1. Nussknackermuseum Europas beginnt in 1 Stunde
TRIGGER;RELATED=END:-PT1H
END:VALARM
END:VEVENT
END:VCALENDAR
