BEGIN:VCALENDAR
PRODID:-//eluceo/ical//2.0/EN
VERSION:2.0
CALSCALE:GREGORIAN
BEGIN:VEVENT
UID:11b5019838dd00df4a80e08dbd04888e
DTSTAMP:20260424T124951Z
SUMMARY:Mutter-Kind-Kurs
DESCRIPTION:Im Kurs für Kinder von 18 Monaten bis 3 Jahren erleben die Kle
 insten Musik und Bewegung hautnah: Tänze\, Kreisspiele\, Fingerspiele und
  gemeinsames Singen fördern spielerisch Rhythmusgefühl\, Sprache und Mot
 orik und schaffen fröhliche Momente in der Gruppe.
URL:https://www.meinplaner.com
DTSTART;TZID=Europe/Amsterdam:20260429T143000
DTEND;TZID=Europe/Amsterdam:20260429T151500
LOCATION:Humboldtstr. 12\, 09669 Frankenberg/Sa.
BEGIN:VALARM
ACTION:DISPLAY
DESCRIPTION:Erinnerung: Mutter-Kind-Kurs beginnt in 1 Stunde
TRIGGER;RELATED=END:-PT1H
END:VALARM
END:VEVENT
END:VCALENDAR
