BEGIN:VCALENDAR
PRODID:-//eluceo/ical//2.0/EN
VERSION:2.0
CALSCALE:GREGORIAN
BEGIN:VEVENT
UID:4a3054f476870542c57166d66b7d65c0
DTSTAMP:20260425T001846Z
SUMMARY:Theater der Welt: Amadoka
DESCRIPTION:Die Inszenierung der Trilogie von Sofia Andruchowytsch beleucht
 et die komplexen Verflechtungen von Erinnerung und Identität in der ukrai
 nischen Geschichte\, während sie die Auswirkungen des aktuellen Konflikts
  auf eindrucksvolle Weise thematisiert.
URL:https://www.meinplaner.com
DTSTART;TZID=Europe/Amsterdam:20260627T180000
DTEND;TZID=Europe/Amsterdam:20260627T200000
LOCATION:Theaterplatz  2\, 09111 Chemnitz
BEGIN:VALARM
ACTION:DISPLAY
DESCRIPTION:Erinnerung: Theater der Welt: Amadoka beginnt in 1 Stunde
TRIGGER;RELATED=END:-PT1H
END:VALARM
END:VEVENT
END:VCALENDAR
