BEGIN:VCALENDAR
PRODID:-//eluceo/ical//2.0/EN
VERSION:2.0
CALSCALE:GREGORIAN
BEGIN:VEVENT
UID:1f39467f41a027b316f2dfd799a59503
DTSTAMP:20260420T125100Z
SUMMARY:Erzgebirgischer Abend in der „Leffelstub“
DESCRIPTION:Ein gemütlicher Abend mit erzgebirgischer Mundart\, gutem Esse
 n und Gesprächen über alte und neue Zeiten. Serviert wird ein traditione
 lles Menü mit regionalen Spezialitäten in besonderer Atmosphäre.
URL:https://www.meinplaner.com
DTSTART;TZID=Europe/Amsterdam:20260508T170000
DTEND;TZID=Europe/Amsterdam:20260508T190000
LOCATION:Karlsbader Straße 189\, 09465 Sehmatal
BEGIN:VALARM
ACTION:DISPLAY
DESCRIPTION:Erinnerung: Erzgebirgischer Abend in der „Leffelstub“ begin
 nt in 1 Stunde
TRIGGER;RELATED=END:-PT1H
END:VALARM
END:VEVENT
END:VCALENDAR
