BEGIN:VCALENDAR
PRODID:-//eluceo/ical//2.0/EN
VERSION:2.0
CALSCALE:GREGORIAN
BEGIN:VEVENT
UID:1e3a093c856fd63ff5ccf4d229798b57
DTSTAMP:20260420T062812Z
SUMMARY:Mit Pinsel & Farbe – Kreative Bilder malen und gestalten
DESCRIPTION:Heute kann man mit Pinsel und Farbe kreativ sein und eigene Bil
 der malen und gestalten.
URL:https://www.meinplaner.com
DTSTART;TZID=Europe/Amsterdam:20260423T170000
DTEND;TZID=Europe/Amsterdam:20260423T190000
LOCATION:Wildbacher Hauptstr.  34\, 08280 Aue-Bad Schlema
BEGIN:VALARM
ACTION:DISPLAY
DESCRIPTION:Erinnerung: Mit Pinsel & Farbe – Kreative Bilder malen und ge
 stalten beginnt in 1 Stunde
TRIGGER;RELATED=END:-PT1H
END:VALARM
END:VEVENT
END:VCALENDAR
