BEGIN:VCALENDAR
PRODID:-//eluceo/ical//2.0/EN
VERSION:2.0
CALSCALE:GREGORIAN
BEGIN:VEVENT
UID:26df415b44fd361f3575ac54317b18d7
DTSTAMP:20260420T154044Z
SUMMARY:Internat in Aufruhr: Der Fall für Code 4
DESCRIPTION:Im Internat herrscht Aufregung\, als das Maskottchen verschwind
 et\; Mia und ihre Freund:innen\, bestehend aus reichen Tussis und schücht
 ernen Fleißbienen\, schließen sich zur Detektivgruppe Code 4 zusammen un
 d folgen einer Schnitzeljagd durch Programmiersprache.
URL:https://www.meinplaner.com
DTSTART;TZID=Europe/Amsterdam:20260423T150000
DTEND;TZID=Europe/Amsterdam:20260423T170000
LOCATION:Altchemnitzer Str. 27\, 09120 Chemnitz
BEGIN:VALARM
ACTION:DISPLAY
DESCRIPTION:Erinnerung: Internat in Aufruhr: Der Fall für Code 4 beginnt i
 n 1 Stunde
TRIGGER;RELATED=END:-PT1H
END:VALARM
END:VEVENT
END:VCALENDAR
