BEGIN:VCALENDAR
PRODID:-//eluceo/ical//2.0/EN
VERSION:2.0
CALSCALE:GREGORIAN
BEGIN:VEVENT
UID:62c73b365f96ec71f66dc507fc4ad7ab
DTSTAMP:20260423T063910Z
SUMMARY:Das Kräuterbüfett - ein Büfett für die Sinne
DESCRIPTION:Gerichte mit intensiven Aromen - auch ungewöhnlich kombiniert?
  Hier gibt es neue Geschmackserlebnisse  zu genießen die nach belieben se
 lbst kreiert werden.
URL:https://www.meinplaner.com
DTSTART;TZID=Europe/Amsterdam:20260509T160000
DTEND;TZID=Europe/Amsterdam:20260509T200000
LOCATION:Am Kurpark 1\, 09488 Thermalbad Wiesenbad
BEGIN:VALARM
ACTION:DISPLAY
DESCRIPTION:Erinnerung: Das Kräuterbüfett - ein Büfett für die Sinne be
 ginnt in 1 Stunde
TRIGGER;RELATED=END:-PT1H
END:VALARM
END:VEVENT
END:VCALENDAR
