BEGIN:VCALENDAR
PRODID:-//eluceo/ical//2.0/EN
VERSION:2.0
CALSCALE:GREGORIAN
BEGIN:VEVENT
UID:b616a78b3ff0ef7af24e77fd6109fe49
DTSTAMP:20260424T072257Z
SUMMARY:Neubeginn 1945 (AT)
DESCRIPTION:Die Ausstellung erinnert an 18 jüdische Überlebende\, die 194
 5 im Stiftsweg 107 die Jüdische Gemeinde Chemnitz neu gründeten. Dokumen
 te und Fotos zeigen ihren Mut zum Neuanfang und wie trotz Verfolgung und V
 erlust eine neue Gemeinschaft entstand.
URL:https://www.meinplaner.com
DTSTART;TZID=Europe/Amsterdam:20260424T100000
DTEND;TZID=Europe/Amsterdam:20260424T180000
LOCATION:Stefan-Heym-Platz 1\, 09111 Chemnitz
BEGIN:VALARM
ACTION:DISPLAY
DESCRIPTION:Erinnerung: Neubeginn 1945 (AT) beginnt in 1 Stunde
TRIGGER;RELATED=END:-PT1H
END:VALARM
END:VEVENT
END:VCALENDAR
