BEGIN:VCALENDAR
PRODID:-//eluceo/ical//2.0/EN
VERSION:2.0
CALSCALE:GREGORIAN
BEGIN:VEVENT
UID:a42698c9cd1b0181de74fbe3c9bb5779
DTSTAMP:20260422T103025Z
SUMMARY:Kurzgeschichten für Einsteigerinnen und Einsteiger
DESCRIPTION:Der Workshop ist eine ideale Spielwiese\, um Genres auszuprobie
 ren oder einzelne Stilmittel näher zu betrachten. Schwerpunkte: Entwicklu
 ng der Figuren und der Geschichte\, Themenfindung und Spannungsaufbau. Am 
 Ende geht jeder mit einer Kurzgeschichte nach Hause.
URL:https://www.meinplaner.com
DTSTART;TZID=Europe/Amsterdam:20260509T110000
DTEND;TZID=Europe/Amsterdam:20260509T164500
LOCATION:Moritzstr. 20\, 09111 Chemnitz
BEGIN:VALARM
ACTION:DISPLAY
DESCRIPTION:Erinnerung: Kurzgeschichten für Einsteigerinnen und Einsteiger
  beginnt in 1 Stunde
TRIGGER;RELATED=END:-PT1H
END:VALARM
END:VEVENT
END:VCALENDAR
