BEGIN:VCALENDAR
PRODID:-//eluceo/ical//2.0/EN
VERSION:2.0
CALSCALE:GREGORIAN
BEGIN:VEVENT
UID:1123d4bf48e049f9459c88318e27a886
DTSTAMP:20260424T002423Z
SUMMARY:Pioniertöne aus Sachsen - Das Bandoneon und seine Geschichten
DESCRIPTION:Die Sonderausstellung lädt zu einer faszinierenden musikalisch
 en Reise ein\, die das Bandoneon und seine Geschichten lebendig werden lä
 sst\, während historische Instrumente und Klangbeispiele das Kulturerbe b
 ereichern. Es spielt das Tangoensemble Cuareto Bando.
URL:https://www.meinplaner.com
DTSTART;TZID=Europe/Amsterdam:20260424T100000
DTEND;TZID=Europe/Amsterdam:20260424T163000
LOCATION:Chemnitzer Str. 64\, 09669 Frankenberg/Sa.
BEGIN:VALARM
ACTION:DISPLAY
DESCRIPTION:Erinnerung: Pioniertöne aus Sachsen - Das Bandoneon und seine 
 Geschichten beginnt in 1 Stunde
TRIGGER;RELATED=END:-PT1H
END:VALARM
END:VEVENT
END:VCALENDAR
