BEGIN:VCALENDAR
PRODID:-//eluceo/ical//2.0/EN
VERSION:2.0
CALSCALE:GREGORIAN
BEGIN:VEVENT
UID:8a7c1757922682ab7749937fc03fb5f4
DTSTAMP:20260423T184052Z
SUMMARY:Der Traumzauberbaum – Das Original als 360°-Erlebnis
DESCRIPTION:Der Traumzauberbaum – Das Original als 360°-Erlebnis begeist
 ert seit 1980 als Kinder-Hörspiel-Musical und hat mit über 5 Millionen v
 erkauften Tonträgern sowie vielfältigen Markenaktivitäten auch nach Rei
 nhard Lakomys Tod 2013 Kultstatus erreicht.
URL:https://www.meinplaner.com
DTSTART;TZID=Europe/Amsterdam:20260426T153000
DTEND;TZID=Europe/Amsterdam:20260426T173000
LOCATION:Milchstr. 1\, 09430 Drebach
BEGIN:VALARM
ACTION:DISPLAY
DESCRIPTION:Erinnerung: Der Traumzauberbaum – Das Original als 360°-Erle
 bnis beginnt in 1 Stunde
TRIGGER;RELATED=END:-PT1H
END:VALARM
END:VEVENT
END:VCALENDAR
