BEGIN:VCALENDAR
PRODID:-//eluceo/ical//2.0/EN
VERSION:2.0
CALSCALE:GREGORIAN
BEGIN:VEVENT
UID:e51fe2b64bf2e59b1eb30d2e906132a8
DTSTAMP:20260422T154202Z
SUMMARY:Familiengottesdienst mit Brunch
DESCRIPTION:Ein gemeinsamer Gottesdienst für die ganze Familie\, der im An
 schluss bei einem gemütlichen Brunch ausklingt. Zeit für Begegnung\, Aus
 tausch und ein entspanntes Miteinander.
URL:https://www.meinplaner.com
DTSTART;TZID=Europe/Amsterdam:20260524T093000
DTEND;TZID=Europe/Amsterdam:20260524T113000
LOCATION:Hauptstr. 186\, 09355 Gersdorf
BEGIN:VALARM
ACTION:DISPLAY
DESCRIPTION:Erinnerung: Familiengottesdienst mit Brunch beginnt in 1 Stunde
TRIGGER;RELATED=END:-PT1H
END:VALARM
END:VEVENT
END:VCALENDAR
