BEGIN:VCALENDAR
PRODID:-//eluceo/ical//2.0/EN
VERSION:2.0
CALSCALE:GREGORIAN
BEGIN:VEVENT
UID:55cdef568cc8fff5de5696acd7fe9218
DTSTAMP:20260419T234516Z
SUMMARY:28. Chemnitzer Schultheaterwoche: Internat in Aufruhr: Der Fall fü
 r Code 4
DESCRIPTION:Mia kommt neu auf ein Eliteinternat. Dort trifft sie auf reiche
  Tussis und schüchterne Fleißbienen. Als das Maskottchen verschwindet\, 
 sind die Unterschiede egal. Mia und ihre neuen Freundinnen gründen die De
 tektivgruppe Code 4 und folgen einer heißen Spur.
URL:https://www.meinplaner.com
DTSTART;TZID=Europe/Amsterdam:20260420T170000
DTEND;TZID=Europe/Amsterdam:20260420T190000
LOCATION:Altchemnitzer Str. 27\, 09120 Chemnitz
BEGIN:VALARM
ACTION:DISPLAY
DESCRIPTION:Erinnerung: 28. Chemnitzer Schultheaterwoche: Internat in Aufru
 hr: Der Fall für Code 4 beginnt in 1 Stunde
TRIGGER;RELATED=END:-PT1H
END:VALARM
END:VEVENT
END:VCALENDAR
