BEGIN:VCALENDAR
PRODID:-//eluceo/ical//2.0/EN
VERSION:2.0
CALSCALE:GREGORIAN
BEGIN:VEVENT
UID:80719e1873f658511930f057b24a40a7
DTSTAMP:20260426T011243Z
SUMMARY:Torjubel bei jedem Wetter
DESCRIPTION:Wetter? Egal! Die Soccerhalle bietet dank des neuen Kunstrasens
  jederzeit beste Bedingungen für schnelle Spiele\, coole Wettbewerbe oder
  jedwede Freizeit-Fußballturniere. Ein toller Treffpunkt für Fußballfan
 s aus Chemnitz und Umgebung. 
URL:https://www.meinplaner.com
DTSTART;TZID=Europe/Amsterdam:20260426T100000
DTEND;TZID=Europe/Amsterdam:20260426T220000
LOCATION:Wildparkstr. 8-14\, 09247 Chemnitz
BEGIN:VALARM
ACTION:DISPLAY
DESCRIPTION:Erinnerung: Torjubel bei jedem Wetter beginnt in 1 Stunde
TRIGGER;RELATED=END:-PT1H
END:VALARM
END:VEVENT
END:VCALENDAR
