BEGIN:VCALENDAR
PRODID:-//eluceo/ical//2.0/EN
VERSION:2.0
CALSCALE:GREGORIAN
BEGIN:VEVENT
UID:32f712f4f2c70bc43f70239307df0a92
DTSTAMP:20260419T155939Z
SUMMARY:1. Metal-Night mit  Daddy Knows Best & Sapid Steel
DESCRIPTION:Frühjahrskonzert mit Daddy Knows Best und Sapid Steel: Zwei Ba
 nds\, energiegeladene Sounds und ein Abend zwischen Rock und Metal\, der d
 en Frühling laut und kraftvoll einläutet.
URL:https://www.meinplaner.com
DTSTART;TZID=Europe/Amsterdam:20260425T200000
DTEND;TZID=Europe/Amsterdam:20260425T220000
LOCATION:Lohstr. 2\, 09111 Chemnitz
BEGIN:VALARM
ACTION:DISPLAY
DESCRIPTION:Erinnerung: 1. Metal-Night mit  Daddy Knows Best & Sapid Steel 
 beginnt in 1 Stunde
TRIGGER;RELATED=END:-PT1H
END:VALARM
END:VEVENT
END:VCALENDAR
