BEGIN:VCALENDAR
PRODID:-//eluceo/ical//2.0/EN
VERSION:2.0
CALSCALE:GREGORIAN
BEGIN:VEVENT
UID:dfd8a607ff63086126344e61c87eb335
DTSTAMP:20260420T154449Z
SUMMARY:Wachträume
DESCRIPTION:Im Wachtraum wo Realität + Illusion verschwimmen\, untersucht 
 das Choreografen-Duo die fragile Grenze zwischen Bühne + Leben\; eine Liv
 e-Kamera konfrontiert das Publikum mit zwei Realitäten\, während ein Nar
 r als Außenseiter das System hinterfragt und durchbricht
URL:https://www.meinplaner.com
DTSTART;TZID=Europe/Amsterdam:20260421T200000
DTEND;TZID=Europe/Amsterdam:20260421T220000
LOCATION:Theaterplatz  2\, 09111 Chemnitz
BEGIN:VALARM
ACTION:DISPLAY
DESCRIPTION:Erinnerung: Wachträume beginnt in 1 Stunde
TRIGGER;RELATED=END:-PT1H
END:VALARM
END:VEVENT
END:VCALENDAR
