BEGIN:VCALENDAR
PRODID:-//eluceo/ical//2.0/EN
VERSION:2.0
CALSCALE:GREGORIAN
BEGIN:VEVENT
UID:12ae0b1b9639923dae360d0799f706b7
DTSTAMP:20260420T153751Z
SUMMARY:Versuch über meinen Großvater
DESCRIPTION:Eine Frau erforscht die Biografie ihres sudetendeutschen Großv
 aters\, der 1938 Seuchenspezialist in Galizien wurde. Nach dem Krieg erleb
 te er Verhaftung und Heimatverlust. Sie sucht Verständnis für seine Gesc
 hichte und deren Auswirkungen auf ihre Familie.
URL:https://www.meinplaner.com
DTSTART;TZID=Europe/Amsterdam:20260522T200000
DTEND;TZID=Europe/Amsterdam:20260522T220000
LOCATION:Altchemnitzer Str. 27\, 09120 Chemnitz
BEGIN:VALARM
ACTION:DISPLAY
DESCRIPTION:Erinnerung: Versuch über meinen Großvater beginnt in 1 Stunde
TRIGGER;RELATED=END:-PT1H
END:VALARM
END:VEVENT
END:VCALENDAR
