BEGIN:VCALENDAR
PRODID:-//eluceo/ical//2.0/EN
VERSION:2.0
CALSCALE:GREGORIAN
BEGIN:VEVENT
UID:24f6959e33139d2bd5cefc51c7160678
DTSTAMP:20260424T012300Z
SUMMARY:Genuss auf hohem Niveau mit eigenem Stil
DESCRIPTION:Schicke Modernität und eine anspruchsvolle Gemütlichkeit biet
 et das zentrumsnahe "Alexxanders" in einem denkmalgeschützten Haus. Inhab
 er und Koch Roland Keilholz und sein Team kreieren auf reizvolle Weise lei
 chte deutsche Küche mit internationalen Einflüssen.
URL:https://www.meinplaner.com
DTSTART;TZID=Europe/Amsterdam:20260424T170000
DTEND;TZID=Europe/Amsterdam:20260424T220000
LOCATION:Ludwig-Kirsch-Str. 9\, 09130 Chemnitz
BEGIN:VALARM
ACTION:DISPLAY
DESCRIPTION:Erinnerung: Genuss auf hohem Niveau mit eigenem Stil beginnt in
  1 Stunde
TRIGGER;RELATED=END:-PT1H
END:VALARM
END:VEVENT
BEGIN:VEVENT
UID:5e516c6e03d9087f13565735fcc6b4a5
DTSTAMP:20260424T012300Z
SUMMARY:Genuss auf hohem Niveau mit eigenem Stil
DESCRIPTION:Schicke Modernität und eine anspruchsvolle Gemütlichkeit biet
 et das zentrumsnahe "Alexxanders" in einem denkmalgeschützten Haus. Inhab
 er und Koch Roland Keilholz und sein Team kreieren auf reizvolle Weise lei
 chte deutsche Küche mit internationalen Einflüssen.
URL:https://www.meinplaner.com
DTSTART;TZID=Europe/Amsterdam:20260424T070000
DTEND;TZID=Europe/Amsterdam:20260424T120000
LOCATION:Ludwig-Kirsch-Str. 9\, 09130 Chemnitz
BEGIN:VALARM
ACTION:DISPLAY
DESCRIPTION:Erinnerung: Genuss auf hohem Niveau mit eigenem Stil beginnt in
  1 Stunde
TRIGGER;RELATED=END:-PT1H
END:VALARM
END:VEVENT
END:VCALENDAR
