BEGIN:VCALENDAR
PRODID:-//eluceo/ical//2.0/EN
VERSION:2.0
CALSCALE:GREGORIAN
BEGIN:VEVENT
UID:6b320fdf06114d9d825258a63ab13bea
DTSTAMP:20260420T132103Z
SUMMARY:Vogelstimmenwanderung
DESCRIPTION:Im malerischen Zschopautal\, wo die Natur in voller Pracht erbl
 üht\, führt der leidenschaftliche Vogelkundler Herr Fischer durch die Vi
 elfalt der gefiederten Bewohner – eine unvergessliche Reise\, deren Teil
 nahme wetterabhängig ist. 
URL:https://www.meinplaner.com
DTSTART;TZID=Europe/Amsterdam:20260503T063000
DTEND;TZID=Europe/Amsterdam:20260503T083000
LOCATION:Freiberger Str. 33\, 09488 Thermalbad Wiesenbad
BEGIN:VALARM
ACTION:DISPLAY
DESCRIPTION:Erinnerung: Vogelstimmenwanderung beginnt in 1 Stunde
TRIGGER;RELATED=END:-PT1H
END:VALARM
END:VEVENT
END:VCALENDAR
