BEGIN:VCALENDAR
PRODID:-//eluceo/ical//2.0/EN
VERSION:2.0
CALSCALE:GREGORIAN
BEGIN:VEVENT
UID:36718d01058e6e4d69a560542a89e05e
DTSTAMP:20260424T020339Z
SUMMARY:Schauröstungen
DESCRIPTION:Das Erlebnis der Schauröstung entführt in die Welt des Kaffee
 s – der Duft frisch gerösteter Bohnen erfüllt den Raum. Mit maximal 15
  Personen kann der faszinierende Prozess hautnah erlebt werden\, direkt im
  Herzen des Cafés.
URL:https://www.meinplaner.com
DTSTART;TZID=Europe/Amsterdam:20260424T130000
DTEND;TZID=Europe/Amsterdam:20260424T133000
LOCATION:Chemnitzer Str. 10\, 09221 Neukirchen/Erzgeb.
BEGIN:VALARM
ACTION:DISPLAY
DESCRIPTION:Erinnerung: Schauröstungen beginnt in 1 Stunde
TRIGGER;RELATED=END:-PT1H
END:VALARM
END:VEVENT
BEGIN:VEVENT
UID:716e4255484e37edb87b71ab4813faa2
DTSTAMP:20260424T020339Z
SUMMARY:Schauröstungen
DESCRIPTION:Das Erlebnis der Schauröstung entführt in die Welt des Kaffee
 s – der Duft frisch gerösteter Bohnen erfüllt den Raum. Mit maximal 15
  Personen kann der faszinierende Prozess hautnah erlebt werden\, direkt im
  Herzen des Cafés.
URL:https://www.meinplaner.com
DTSTART;TZID=Europe/Amsterdam:20260424T170000
DTEND;TZID=Europe/Amsterdam:20260424T173000
LOCATION:Chemnitzer Str. 10\, 09221 Neukirchen/Erzgeb.
BEGIN:VALARM
ACTION:DISPLAY
DESCRIPTION:Erinnerung: Schauröstungen beginnt in 1 Stunde
TRIGGER;RELATED=END:-PT1H
END:VALARM
END:VEVENT
END:VCALENDAR
