BEGIN:VCALENDAR
PRODID:-//eluceo/ical//2.0/EN
VERSION:2.0
CALSCALE:GREGORIAN
BEGIN:VEVENT
UID:22573a165b159733321a3f6034c26a30
DTSTAMP:20260420T153921Z
SUMMARY:Theater der Welt: Shintai to Shintai
DESCRIPTION:„Von Körper zu Körper“ ist eine Tanzproduktion von Yoko A
 ndo und der Gruppe Tanzende Nachbarn\, die interkulturellen und intergener
 ationellen Austausch fördert\, indem sie unterschiedliche Geschichten und
  Identitäten auf der Bühne vereint und Vielfalt zelebriert
URL:https://www.meinplaner.com
DTSTART;TZID=Europe/Amsterdam:20260703T200000
DTEND;TZID=Europe/Amsterdam:20260703T220000
LOCATION:Fabrikstraße  11\, 09111 Chemnitz
BEGIN:VALARM
ACTION:DISPLAY
DESCRIPTION:Erinnerung: Theater der Welt: Shintai to Shintai beginnt in 1 S
 tunde
TRIGGER;RELATED=END:-PT1H
END:VALARM
END:VEVENT
END:VCALENDAR
