BEGIN:VCALENDAR
PRODID:-//eluceo/ical//2.0/EN
VERSION:2.0
CALSCALE:GREGORIAN
BEGIN:VEVENT
UID:67a35aaf9df5f39a8fcfd82ddb181232
DTSTAMP:20260425T161157Z
SUMMARY:Mein Freund Barry
DESCRIPTION:Im Hospiz am Grossen Sankt Bernhard kämpft der kranke Georg ge
 gen Vorurteile und Einsamkeit\, findet Trost in der Freundschaft mit Resi 
 und einer zarten Bindung zu einem schwächlichen Welpen namens Barry\, wä
 hrend er um seine Zukunft ringt.
URL:https://www.meinplaner.com
DTSTART;TZID=Europe/Amsterdam:20260426T130000
DTEND;TZID=Europe/Amsterdam:20260426T150000
LOCATION:Buchholzer Str. 10\, 09456 Annaberg-Buchholz
BEGIN:VALARM
ACTION:DISPLAY
DESCRIPTION:Erinnerung: Mein Freund Barry beginnt in 1 Stunde
TRIGGER;RELATED=END:-PT1H
END:VALARM
END:VEVENT
END:VCALENDAR
