BEGIN:VCALENDAR
PRODID:-//eluceo/ical//2.0/EN
VERSION:2.0
CALSCALE:GREGORIAN
BEGIN:VEVENT
UID:f82751204a76d2aa721c40e3188bbda9
DTSTAMP:20260423T115716Z
SUMMARY:Kräuterführung im Stadtwald
DESCRIPTION:Nicht alles\, was am Wegrand wächst und blüht\, ist „Unkrau
 t“ und so manches Grün auf Wiesen und im Wald besitzt spannende Wirkung
 en. Bei einer Kräuterführung im Stadtwald Oederan mit Angelika Künzel k
 önnen Teilnehmende viel darüber erfahren.\n
URL:https://www.meinplaner.com
DTSTART;TZID=Europe/Amsterdam:20260513T170000
DTEND;TZID=Europe/Amsterdam:20260513T190000
LOCATION:Borntalweg \, 09569 Oederan
BEGIN:VALARM
ACTION:DISPLAY
DESCRIPTION:Erinnerung: Kräuterführung im Stadtwald beginnt in 1 Stunde
TRIGGER;RELATED=END:-PT1H
END:VALARM
END:VEVENT
END:VCALENDAR
