BEGIN:VCALENDAR
PRODID:-//eluceo/ical//2.0/EN
VERSION:2.0
CALSCALE:GREGORIAN
BEGIN:VEVENT
UID:e3479fa9c16469c10a1f8ad2a81f17c6
DTSTAMP:20260424T002957Z
SUMMARY:Französische Genüsse in historischem Ambiente
DESCRIPTION:Die Brasserie „La Reine“ lädt zu kulinarischen französisc
 hen Genüssen ein. Die Auswahl aus regionalen und nachhaltigen Spezialitä
 ten wie Clubsandwiches\, Burgern oder leckerer Patisserie sowie aromatisch
 en Kaffeespezialitäten lässt keine Wünsche offen.
URL:https://www.meinplaner.com
DTSTART;TZID=Europe/Amsterdam:20260424T160000
DTEND;TZID=Europe/Amsterdam:20260424T220000
LOCATION:Schlossallee  1\, 09577 Niederwiesa
BEGIN:VALARM
ACTION:DISPLAY
DESCRIPTION:Erinnerung: Französische Genüsse in historischem Ambiente beg
 innt in 1 Stunde
TRIGGER;RELATED=END:-PT1H
END:VALARM
END:VEVENT
END:VCALENDAR
