BEGIN:VCALENDAR
PRODID:-//eluceo/ical//2.0/EN
VERSION:2.0
CALSCALE:GREGORIAN
BEGIN:VEVENT
UID:862c0c0a25191302c110c08a76873621
DTSTAMP:20260420T150155Z
SUMMARY:Michael
DESCRIPTION:Der Film beleuchtet Michael Jacksons faszinierendes Leben\, von
  den Anfängen als Leadsänger der Jackson Five bis zu seinem Aufstieg als
  visionärer Künstler und gewährt einen einzigartigen Einblick in seine 
 legendären Auftritte und das Leben abseits der Bühne.
URL:https://www.meinplaner.com
DTSTART;TZID=Europe/Amsterdam:20260422T173000
DTEND;TZID=Europe/Amsterdam:20260422T193000
LOCATION:Hartensteiner Str. 11\, 08289 Schneeberg
BEGIN:VALARM
ACTION:DISPLAY
DESCRIPTION:Erinnerung: Michael beginnt in 1 Stunde
TRIGGER;RELATED=END:-PT1H
END:VALARM
END:VEVENT
BEGIN:VEVENT
UID:c5e5c2775288a46b6bfd028f7b192009
DTSTAMP:20260420T150155Z
SUMMARY:Michael
DESCRIPTION:Der Film beleuchtet Michael Jacksons faszinierendes Leben\, von
  den Anfängen als Leadsänger der Jackson Five bis zu seinem Aufstieg als
  visionärer Künstler und gewährt einen einzigartigen Einblick in seine 
 legendären Auftritte und das Leben abseits der Bühne.
URL:https://www.meinplaner.com
DTSTART;TZID=Europe/Amsterdam:20260422T201500
DTEND;TZID=Europe/Amsterdam:20260422T221500
LOCATION:Hartensteiner Str. 11\, 08289 Schneeberg
BEGIN:VALARM
ACTION:DISPLAY
DESCRIPTION:Erinnerung: Michael beginnt in 1 Stunde
TRIGGER;RELATED=END:-PT1H
END:VALARM
END:VEVENT
END:VCALENDAR
