BEGIN:VCALENDAR
PRODID:-//eluceo/ical//2.0/EN
VERSION:2.0
CALSCALE:GREGORIAN
BEGIN:VEVENT
UID:6627b43c07f546517f8ba10cc84a196a
DTSTAMP:20260424T113250Z
SUMMARY:Tauschtag
DESCRIPTION:In der Kantine des Unternehmens treffen sich Sammlerfreunde zum
  Tauschen von Briefmarken\, Ansichtskarten\, Münzen und Heimatliteratur. 
 Eine Gelegenheit für Austausch\, Gespräche und neue Schätze für die ei
 gene Sammlung.
URL:https://www.meinplaner.com
DTSTART;TZID=Europe/Amsterdam:20260426T090000
DTEND;TZID=Europe/Amsterdam:20260426T120000
LOCATION:Straße der Einheit  24\, 08340 Schwarzenberg/Erzgeb.
BEGIN:VALARM
ACTION:DISPLAY
DESCRIPTION:Erinnerung: Tauschtag beginnt in 1 Stunde
TRIGGER;RELATED=END:-PT1H
END:VALARM
END:VEVENT
END:VCALENDAR
