BEGIN:VCALENDAR
PRODID:-//eluceo/ical//2.0/EN
VERSION:2.0
CALSCALE:GREGORIAN
BEGIN:VEVENT
UID:3b3eb19c149dfd84fbe72f087c48c8c4
DTSTAMP:20260421T175050Z
SUMMARY:Sommerabend-Stadtführungen im bergmännischen Habit oder als Kuli
 narik-Tour – ein besonderer Kulturabend
DESCRIPTION:Sommerabend-Stadtführungen im bergmännischen Habit oder als K
 ulinarik-Tour bieten einen besonderen Kulturabend\, der die Geschichte und
  Traditionen der Region lebendig werden lässt und gleichzeitig die Sinne 
 mit regionalen Köstlichkeiten verwöhnt.
URL:https://www.meinplaner.com
DTSTART;TZID=Europe/Amsterdam:20260522T183000
DTEND;TZID=Europe/Amsterdam:20260522T203000
LOCATION:Markt 1\, 09496 Marienberg
BEGIN:VALARM
ACTION:DISPLAY
DESCRIPTION:Erinnerung: Sommerabend-Stadtführungen im bergmännischen Hab
 it oder als Kulinarik-Tour – ein besonderer Kulturabend beginnt in 1 Stu
 nde
TRIGGER;RELATED=END:-PT1H
END:VALARM
END:VEVENT
END:VCALENDAR
