BEGIN:VCALENDAR
PRODID:-//eluceo/ical//2.0/EN
VERSION:2.0
CALSCALE:GREGORIAN
BEGIN:VEVENT
UID:771a6f7ba9829f8b2d4de575cd5c013c
DTSTAMP:20260421T234947Z
SUMMARY:Kochkurs: Kochen wie im Mittelalter
DESCRIPTION:Ein Abend in der Schwarzküche von Schloss Rochlitz: Unter Anle
 itung historischer Hofköchinnen wird gekocht wie vor 500 Jahren. Feuer en
 tfachen\, über offenem Herd arbeiten und ein mittelalterliches 3-Gänge-M
 enü zubereiten – zum Abschluss wird gemeinsam gegessen
URL:https://www.meinplaner.com
DTSTART;TZID=Europe/Amsterdam:20260508T180000
DTEND;TZID=Europe/Amsterdam:20260508T213000
LOCATION:Sörnziger Weg 1\, 09306 Rochlitz
BEGIN:VALARM
ACTION:DISPLAY
DESCRIPTION:Erinnerung: Kochkurs: Kochen wie im Mittelalter beginnt in 1 St
 unde
TRIGGER;RELATED=END:-PT1H
END:VALARM
END:VEVENT
END:VCALENDAR
