BEGIN:VCALENDAR
PRODID:-//eluceo/ical//2.0/EN
VERSION:2.0
CALSCALE:GREGORIAN
BEGIN:VEVENT
UID:9091791a292f6dd7309f7813e57e02fa
DTSTAMP:20260421T142935Z
SUMMARY:Kaßberg-Tour
DESCRIPTION:Von der Innenstadt geht die Tour zum Kaßberg\, einem der grö
 ßten Gründerzeit- und Jugendstil-Viertel Europas. Stationen sind u.a. Ju
 gendherberge eins\, Pfortensteg\, Justizgebäude\, Kaiserliche Oberpostdir
 ektion\, Marianne-Brandt-Haus\, Majolika-Häuser.
URL:https://www.meinplaner.com
DTSTART;TZID=Europe/Amsterdam:20260427T140000
DTEND;TZID=Europe/Amsterdam:20260427T160000
LOCATION:Theaterstraße \, 09111 Chemnitz
BEGIN:VALARM
ACTION:DISPLAY
DESCRIPTION:Erinnerung: Kaßberg-Tour beginnt in 1 Stunde
TRIGGER;RELATED=END:-PT1H
END:VALARM
END:VEVENT
END:VCALENDAR
