BEGIN:VCALENDAR
PRODID:-//eluceo/ical//2.0/EN
VERSION:2.0
CALSCALE:GREGORIAN
BEGIN:VEVENT
UID:04d1ca70d331b85f700a0e2b6fa7ff4c
DTSTAMP:20260419T132811Z
SUMMARY:RAVE/SHOCK präsentier KaaCee aka KomaCasper!
DESCRIPTION:Ein Abend voller dunklem\, direktem und kompromisslosem Vocalte
 kkno\, der seit 2011 frischen Vibe in die Szene bringt und mit Eigenproduk
 tionen und einzigartigem Stil für Abriss sorgt – ein Erlebnis\, das beg
 eistert!
URL:https://www.meinplaner.com
DTSTART;TZID=Europe/Amsterdam:20260508T220000
DTEND;TZID=Europe/Amsterdam:20260509T040000
LOCATION:Neumarkt 2\, 09111 Chemnitz
BEGIN:VALARM
ACTION:DISPLAY
DESCRIPTION:Erinnerung: RAVE/SHOCK präsentier KaaCee aka KomaCasper! begin
 nt in 1 Stunde
TRIGGER;RELATED=END:-PT1H
END:VALARM
END:VEVENT
END:VCALENDAR
