BEGIN:VCALENDAR
PRODID:-//eluceo/ical//2.0/EN
VERSION:2.0
CALSCALE:GREGORIAN
BEGIN:VEVENT
UID:3e2fb3c6c3eb568fc3d866c9e51c731c
DTSTAMP:20260420T153921Z
SUMMARY:28. Chemnitzer Schultheaterwoche: Die Schneekönigin
DESCRIPTION:In einem winterlichen Abenteuer begibt sich Gerd auf die Suche 
 nach seinem entführten Freund Kai\, unterstützt von der Krähe Knödel\,
  König Kai\, dem Rentier Bäh und einem Räuber\, um den Zauber der eiska
 lten Schneekönigin zu brechen und Kai zurückzubringen.
URL:https://www.meinplaner.com
DTSTART;TZID=Europe/Amsterdam:20260421T100000
DTEND;TZID=Europe/Amsterdam:20260421T120000
LOCATION:Altchemnitzer Str. 27\, 09120 Chemnitz
BEGIN:VALARM
ACTION:DISPLAY
DESCRIPTION:Erinnerung: 28. Chemnitzer Schultheaterwoche: Die Schneekönigi
 n beginnt in 1 Stunde
TRIGGER;RELATED=END:-PT1H
END:VALARM
END:VEVENT
END:VCALENDAR
