BEGIN:VCALENDAR
PRODID:-//eluceo/ical//2.0/EN
VERSION:2.0
CALSCALE:GREGORIAN
BEGIN:VEVENT
UID:a36d187e222734c9cd2c3f5ca36c0595
DTSTAMP:20260423T031804Z
SUMMARY:Ausstellung: Vielfalt im Fokus
DESCRIPTION:Die Ausstellung „Vielfalt im Fokus“ zeigt Arbeiten von Sabi
 ne Hagedorn. Porzellan- und Glaskunst treffen auf Malerei und eröffnen fa
 cettenreiche Perspektiven zwischen Material\, Form und Farbe.
URL:https://www.meinplaner.com
DTSTART;TZID=Europe/Amsterdam:20260423T140000
DTEND;TZID=Europe/Amsterdam:20260423T170000
LOCATION:Altmarkt 14\, 09337 Hohenstein-Ernstthal
BEGIN:VALARM
ACTION:DISPLAY
DESCRIPTION:Erinnerung: Ausstellung: Vielfalt im Fokus beginnt in 1 Stunde
TRIGGER;RELATED=END:-PT1H
END:VALARM
END:VEVENT
END:VCALENDAR
